BEGIN:VCALENDAR
VERSION:2.0
PRODID:-//The Springstone School | Lafayette, CA - ECPv6.15.20//NONSGML v1.0//EN
CALSCALE:GREGORIAN
METHOD:PUBLISH
X-WR-CALNAME:The Springstone School | Lafayette, CA
X-ORIGINAL-URL:https://thespringstoneschool.org
X-WR-CALDESC:Events for The Springstone School | Lafayette, CA
REFRESH-INTERVAL;VALUE=DURATION:PT1H
X-Robots-Tag:noindex
X-PUBLISHED-TTL:PT1H
BEGIN:VTIMEZONE
TZID:UTC
BEGIN:STANDARD
TZOFFSETFROM:+0000
TZOFFSETTO:+0000
TZNAME:UTC
DTSTART:20220101T000000
END:STANDARD
END:VTIMEZONE
BEGIN:VEVENT
DTSTART;VALUE=DATE:20230523
DTEND;VALUE=DATE:20230527
DTSTAMP:20260422T020225
CREATED:20220504T035224Z
LAST-MODIFIED:20220504T035310Z
UID:1650-1684800000-1685145599@thespringstoneschool.org
SUMMARY:SCHS Finals 1pm Dismissal
DESCRIPTION:
URL:https://thespringstoneschool.org/event/schs-finals-1pm-dismissal-2/
LOCATION:The Springstone School\, 1035 Carol Ln\, Lafayette\, CA\, 94549\, United States
CATEGORIES:High School Only Minimum Day - 1pm Dismissal
ORGANIZER;CN="The Springstone Middle & Community High School":MAILTO:info@thespringstoneschool.org
END:VEVENT
END:VCALENDAR