BEGIN:VCALENDAR
VERSION:2.0
PRODID:-//The Springstone School | Lafayette, CA - ECPv6.15.20//NONSGML v1.0//EN
CALSCALE:GREGORIAN
METHOD:PUBLISH
X-ORIGINAL-URL:https://thespringstoneschool.org
X-WR-CALDESC:Events for The Springstone School | Lafayette, CA
REFRESH-INTERVAL;VALUE=DURATION:PT1H
X-Robots-Tag:noindex
X-PUBLISHED-TTL:PT1H
BEGIN:VTIMEZONE
TZID:UTC
BEGIN:STANDARD
TZOFFSETFROM:+0000
TZOFFSETTO:+0000
TZNAME:UTC
DTSTART:20210101T000000
END:STANDARD
END:VTIMEZONE
BEGIN:VEVENT
DTSTART;VALUE=DATE:20230602
DTEND;VALUE=DATE:20230603
DTSTAMP:20260420T101537
CREATED:20220504T040608Z
LAST-MODIFIED:20220504T040805Z
UID:1655-1685664000-1685750399@thespringstoneschool.org
SUMMARY:Last Day School/Minimum Day
DESCRIPTION:
URL:https://thespringstoneschool.org/event/last-day-school-minimum-day/
LOCATION:The Springstone School\, 1035 Carol Ln\, Lafayette\, CA\, 94549\, United States
CATEGORIES:Special Events and Fundraisers
ORGANIZER;CN="The Springstone Middle & Community High School":MAILTO:info@thespringstoneschool.org
END:VEVENT
BEGIN:VEVENT
DTSTART;VALUE=DATE:20230601
DTEND;VALUE=DATE:20230602
DTSTAMP:20260420T101537
CREATED:20220504T040324Z
LAST-MODIFIED:20220504T040356Z
UID:1652-1685577600-1685663999@thespringstoneschool.org
SUMMARY:Senior Graduation
DESCRIPTION:
URL:https://thespringstoneschool.org/event/senior-graduation/
LOCATION:The Springstone School\, 1035 Carol Ln\, Lafayette\, CA\, 94549\, United States
CATEGORIES:Special Events and Fundraisers
ORGANIZER;CN="The Springstone Middle & Community High School":MAILTO:info@thespringstoneschool.org
END:VEVENT
BEGIN:VEVENT
DTSTART;VALUE=DATE:20230403
DTEND;VALUE=DATE:20230408
DTSTAMP:20260420T101537
CREATED:20220504T032236Z
LAST-MODIFIED:20220504T033318Z
UID:1648-1680480000-1680911999@thespringstoneschool.org
SUMMARY:Spring Break
DESCRIPTION:
URL:https://thespringstoneschool.org/event/spring-break/
LOCATION:The Springstone School\, 1035 Carol Ln\, Lafayette\, CA\, 94549\, United States
CATEGORIES:School Closed,Special Events and Fundraisers
ORGANIZER;CN="The Springstone Middle & Community High School":MAILTO:info@thespringstoneschool.org
END:VEVENT
BEGIN:VEVENT
DTSTART;VALUE=DATE:20230331
DTEND;VALUE=DATE:20230401
DTSTAMP:20260420T101537
CREATED:20220503T102347Z
LAST-MODIFIED:20220503T102431Z
UID:1647-1680220800-1680307199@thespringstoneschool.org
SUMMARY:Early Dismissal 1pm
DESCRIPTION:
URL:https://thespringstoneschool.org/event/early-dismissal-1pm/
LOCATION:The Springstone School\, 1035 Carol Ln\, Lafayette\, CA\, 94549\, United States
CATEGORIES:Minimum Day - 1pm Dismissal,Special Events and Fundraisers
ORGANIZER;CN="The Springstone Middle & Community High School":MAILTO:info@thespringstoneschool.org
END:VEVENT
BEGIN:VEVENT
DTSTART;TZID=UTC:20230330T183000
DTEND;TZID=UTC:20230330T213000
DTSTAMP:20260420T101537
CREATED:20220503T102247Z
LAST-MODIFIED:20220803T190022Z
UID:1645-1680201000-1680211800@thespringstoneschool.org
SUMMARY:Senior Star Service Dinner
DESCRIPTION:
URL:https://thespringstoneschool.org/event/senior-star-service-dinner/
LOCATION:The Springstone School\, 1035 Carol Ln\, Lafayette\, CA\, 94549\, United States
CATEGORIES:Special Events and Fundraisers
ORGANIZER;CN="The Springstone Middle & Community High School":MAILTO:info@thespringstoneschool.org
END:VEVENT
BEGIN:VEVENT
DTSTART;VALUE=DATE:20230203
DTEND;VALUE=DATE:20230204
DTSTAMP:20260420T101537
CREATED:20220503T100754Z
LAST-MODIFIED:20220503T100837Z
UID:1638-1675382400-1675468799@thespringstoneschool.org
SUMMARY:SCHS Winter Dance
DESCRIPTION:
URL:https://thespringstoneschool.org/event/schs-winter-dance/
LOCATION:The Springstone School\, 1035 Carol Ln\, Lafayette\, CA\, 94549\, United States
CATEGORIES:Special Events and Fundraisers
ORGANIZER;CN="The Springstone Middle & Community High School":MAILTO:info@thespringstoneschool.org
END:VEVENT
BEGIN:VEVENT
DTSTART;VALUE=DATE:20230127
DTEND;VALUE=DATE:20230128
DTSTAMP:20260420T101537
CREATED:20220503T100412Z
LAST-MODIFIED:20220503T100505Z
UID:1635-1674777600-1674863999@thespringstoneschool.org
SUMMARY:SPC Bingo/Trivia Night
DESCRIPTION:
URL:https://thespringstoneschool.org/event/spc-bingo-trivia-night/
LOCATION:The Springstone School\, 1035 Carol Ln\, Lafayette\, CA\, 94549\, United States
CATEGORIES:Special Events and Fundraisers
ORGANIZER;CN="The Springstone Middle & Community High School":MAILTO:info@thespringstoneschool.org
END:VEVENT
BEGIN:VEVENT
DTSTART;TZID=UTC:20220923T183000
DTEND;TZID=UTC:20220923T220000
DTSTAMP:20260420T101537
CREATED:20220503T091724Z
LAST-MODIFIED:20220914T161435Z
UID:1618-1663957800-1663970400@thespringstoneschool.org
SUMMARY:Oktoberfest Fundraiser
DESCRIPTION:Join us for the \nSecond AnnualSpringstone Oktoberfest 2022Cheers to community and connection!\nFriday\, September 23rd6:30 – 10pm \nMain Hall1035 Carol LaneLafayette\, CAParking in Creekside Commons Lot B \nGeneral Admission 21+ $50 at the door or $45 in advance \nChildcare $20 at the door or $15 in advance \nBuy advance tickets below! \n					\n				\n			\n			\n				\n				\n				\n				\n			\n				\n				\n			\n				\n				\n				\n				\n				\n				\n				\n				\n				\n				\n				\n				\n				\n				\n				\n				\n				\n				General Admission Ticket  (21+)\n				\n			\n			\n				\n				\n				\n				\n				\n				\n				\n				\n				\n				Childcare\n				\n			\n				\n				\n				\n				\n				\n				\n				\n					\n\n	\n			\n			\n									\n						Size\n						\n							Choose an optionSMLXLClear						\n					\n							\n		\n		\n		\n		\n			\n	\n	\n		Middle School Zip Up Hoodie quantity\n	\n	\n\n	Add to cart
URL:https://thespringstoneschool.org/event/oktoberfest/
LOCATION:The Springstone School\, 1035 Carol Ln\, Lafayette\, CA\, 94549\, United States
CATEGORIES:Special Events and Fundraisers
ORGANIZER;CN="The Springstone Middle & Community High School":MAILTO:info@thespringstoneschool.org
END:VEVENT
BEGIN:VEVENT
DTSTART;VALUE=DATE:20220915
DTEND;VALUE=DATE:20220916
DTSTAMP:20260420T101538
CREATED:20220503T091511Z
LAST-MODIFIED:20220803T165125Z
UID:1617-1663200000-1663286399@thespringstoneschool.org
SUMMARY:Back to School Night
DESCRIPTION:
URL:https://thespringstoneschool.org/event/back-to-school-night/
LOCATION:The Springstone School\, 1035 Carol Ln\, Lafayette\, CA\, 94549\, United States
CATEGORIES:Special Events and Fundraisers
ORGANIZER;CN="The Springstone Middle & Community High School":MAILTO:info@thespringstoneschool.org
END:VEVENT
BEGIN:VEVENT
DTSTART;VALUE=DATE:20220907
DTEND;VALUE=DATE:20220910
DTSTAMP:20260420T101538
CREATED:20220803T163925Z
LAST-MODIFIED:20220803T165019Z
UID:1735-1662508800-1662767999@thespringstoneschool.org
SUMMARY:Camp Arroyo Overnights
DESCRIPTION:
URL:https://thespringstoneschool.org/event/camp-arroyo-2022/
LOCATION:The Springstone School\, 1035 Carol Ln\, Lafayette\, CA\, 94549\, United States
CATEGORIES:Special Events and Fundraisers
ORGANIZER;CN="The Springstone Middle & Community High School":MAILTO:info@thespringstoneschool.org
END:VEVENT
BEGIN:VEVENT
DTSTART;VALUE=DATE:20220906
DTEND;VALUE=DATE:20220907
DTSTAMP:20260420T101538
CREATED:20220428T035926Z
LAST-MODIFIED:20220428T035926Z
UID:1615-1662422400-1662508799@thespringstoneschool.org
SUMMARY:SCHS ACCESS Week
DESCRIPTION:
URL:https://thespringstoneschool.org/event/schs-access-week/
LOCATION:The Springstone School\, 1035 Carol Ln\, Lafayette\, CA\, 94549\, United States
CATEGORIES:Special Events and Fundraisers
ORGANIZER;CN="The Springstone Middle & Community High School":MAILTO:info@thespringstoneschool.org
END:VEVENT
END:VCALENDAR